Package: DMCFB Version: 1.22.1 Command: rm -rf DMCFB.buildbin-libdir && mkdir DMCFB.buildbin-libdir && /Users/biocbuild/BBS/utils/build-universal.sh DMCFB_1.22.1.tar.gz /Library/Frameworks/R.framework/Resources/bin/R DMCFB.buildbin-libdir StartedAt: 2025-10-14 13:18:11 -0400 (Tue, 14 Oct 2025) EndedAt: 2025-10-14 13:20:19 -0400 (Tue, 14 Oct 2025) EllapsedTime: 127.6 seconds RetCode: 0 Status: OK PackageFile: DMCFB_1.22.1.tgz PackageFileSize: 1.209 MiB