Package: DMCFB Version: 1.22.1 Command: /home/biocbuild/R/R/bin/R CMD check --install=check:DMCFB.install-out.txt --library=/home/biocbuild/R/R/site-library --no-vignettes --timings DMCFB_1.22.1.tar.gz StartedAt: 2025-10-14 08:35:11 -0000 (Tue, 14 Oct 2025) EndedAt: 2025-10-14 08:42:44 -0000 (Tue, 14 Oct 2025) EllapsedTime: 452.4 seconds RetCode: 0 Status: OK CheckDir: DMCFB.Rcheck Warnings: 0