Package: DMCFB Version: 1.22.1 Command: /home/biocbuild/R/R/bin/R CMD build --keep-empty-dirs --no-resave-data DMCFB StartedAt: 2025-10-14 00:24:47 -0000 (Tue, 14 Oct 2025) EndedAt: 2025-10-14 00:26:32 -0000 (Tue, 14 Oct 2025) EllapsedTime: 105.0 seconds RetCode: 0 Status: OK PackageFile: DMCFB_1.22.1.tar.gz PackageFileSize: 1.069 MiB