Package: DMCFB Version: 1.22.0 Command: /Library/Frameworks/R.framework/Resources/bin/R CMD INSTALL DMCFB StartedAt: 2025-04-21 15:16:02 -0400 (Mon, 21 Apr 2025) EndedAt: 2025-04-21 15:16:17 -0400 (Mon, 21 Apr 2025) EllapsedTime: 15.3 seconds RetCode: 0 Status: OK