Package: DMCFB Version: 1.22.1 Command: /Library/Frameworks/R.framework/Resources/bin/R CMD INSTALL DMCFB StartedAt: 2025-10-13 18:40:28 -0400 (Mon, 13 Oct 2025) EndedAt: 2025-10-13 18:41:11 -0400 (Mon, 13 Oct 2025) EllapsedTime: 42.8 seconds RetCode: 0 Status: OK