Package: DMCFB Version: 1.22.1 Command: /Library/Frameworks/R.framework/Resources/bin/R CMD check --install=check:DMCFB.install-out.txt --library=/Library/Frameworks/R.framework/Resources/library --no-vignettes --timings DMCFB_1.22.1.tar.gz StartedAt: 2025-10-14 19:51:30 -0400 (Tue, 14 Oct 2025) EndedAt: 2025-10-14 19:58:47 -0400 (Tue, 14 Oct 2025) EllapsedTime: 437.2 seconds RetCode: 0 Status: OK CheckDir: DMCFB.Rcheck Warnings: 0