Package: DFP Version: 1.66.0 Command: /home/biocbuild/bbs-3.21-bioc/R/bin/R CMD check --install=check:DFP.install-out.txt --library=/home/biocbuild/bbs-3.21-bioc/R/site-library --timings DFP_1.66.0.tar.gz StartedAt: 2025-10-15 22:38:29 -0400 (Wed, 15 Oct 2025) EndedAt: 2025-10-15 22:39:01 -0400 (Wed, 15 Oct 2025) EllapsedTime: 32.1 seconds RetCode: 0 Status: OK CheckDir: DFP.Rcheck Warnings: 0