Package: DFP Version: 1.66.0 Command: /home/biocbuild/R/R/bin/R CMD check --install=check:DFP.install-out.txt --library=/home/biocbuild/R/R/site-library --no-vignettes --timings DFP_1.66.0.tar.gz StartedAt: 2025-10-14 08:28:01 -0000 (Tue, 14 Oct 2025) EndedAt: 2025-10-14 08:28:45 -0000 (Tue, 14 Oct 2025) EllapsedTime: 44.0 seconds RetCode: 0 Status: OK CheckDir: DFP.Rcheck Warnings: 0