Package: DFP Version: 1.66.0 Command: /Library/Frameworks/R.framework/Resources/bin/R CMD build --keep-empty-dirs --no-resave-data DFP StartedAt: 2025-10-13 23:14:23 -0400 (Mon, 13 Oct 2025) EndedAt: 2025-10-13 23:14:38 -0400 (Mon, 13 Oct 2025) EllapsedTime: 14.9 seconds RetCode: 0 Status: OK PackageFile: DFP_1.66.0.tar.gz PackageFileSize: 497.1 KiB