Package: DEsubs Version: 1.34.0 Command: rm -rf DEsubs.buildbin-libdir && mkdir DEsubs.buildbin-libdir && E:\biocbuild\bbs-3.21-bioc\R\bin\R.exe CMD INSTALL --build --library=DEsubs.buildbin-libdir DEsubs_1.34.0.tar.gz StartedAt: 2025-08-15 09:10:06 -0400 (Fri, 15 Aug 2025) EndedAt: 2025-08-15 09:10:43 -0400 (Fri, 15 Aug 2025) EllapsedTime: 36.8 seconds RetCode: 0 Status: OK PackageFile: DEsubs_1.34.0.zip PackageFileSize: 3.752 MiB