Package: DEsubs Version: 1.34.0 Command: /Library/Frameworks/R.framework/Resources/bin/R CMD INSTALL DEsubs StartedAt: 2025-10-13 15:39:49 -0400 (Mon, 13 Oct 2025) EndedAt: 2025-10-13 15:40:51 -0400 (Mon, 13 Oct 2025) EllapsedTime: 61.8 seconds RetCode: 0 Status: OK