Package: DEsubs Version: 1.34.0 Command: rm -rf DEsubs.buildbin-libdir && mkdir DEsubs.buildbin-libdir && /Users/biocbuild/BBS/utils/build-universal.sh DEsubs_1.34.0.tar.gz /Library/Frameworks/R.framework/Resources/bin/R DEsubs.buildbin-libdir StartedAt: 2025-04-21 22:32:51 -0400 (Mon, 21 Apr 2025) EndedAt: 2025-04-21 22:33:05 -0400 (Mon, 21 Apr 2025) EllapsedTime: 13.2 seconds RetCode: 0 Status: OK PackageFile: DEsubs_1.34.0.tgz PackageFileSize: 3.744 MiB