Package: DEsingle Version: 1.28.0 Command: E:\biocbuild\bbs-3.21-bioc\R\bin\R.exe CMD check --no-multiarch --install=check:DEsingle.install-out.txt --library=E:\biocbuild\bbs-3.21-bioc\R\library --no-vignettes --timings DEsingle_1.28.0.tar.gz StartedAt: 2025-08-15 01:28:08 -0400 (Fri, 15 Aug 2025) EndedAt: 2025-08-15 01:32:16 -0400 (Fri, 15 Aug 2025) EllapsedTime: 248.6 seconds RetCode: 0 Status: OK CheckDir: DEsingle.Rcheck Warnings: 0