Package: DEqMS Version: 1.26.0 Command: /home/biocbuild/R/R/bin/R CMD INSTALL DEqMS StartedAt: 2025-10-13 20:19:49 -0000 (Mon, 13 Oct 2025) EndedAt: 2025-10-13 20:19:56 -0000 (Mon, 13 Oct 2025) EllapsedTime: 7.0 seconds RetCode: 0 Status: OK