Package: DEXSeq Version: 1.54.1 Command: /home/biocbuild/R/R/bin/R CMD check --install=check:DEXSeq.install-out.txt --library=/home/biocbuild/R/R/site-library --no-vignettes --timings DEXSeq_1.54.1.tar.gz StartedAt: 2025-10-14 08:28:01 -0000 (Tue, 14 Oct 2025) EndedAt: 2025-10-14 08:35:11 -0000 (Tue, 14 Oct 2025) EllapsedTime: 430.3 seconds RetCode: 0 Status: OK CheckDir: DEXSeq.Rcheck Warnings: 0