Package: DESpace Version: 2.0.0 Command: /Library/Frameworks/R.framework/Resources/bin/R CMD INSTALL DESpace StartedAt: 2025-10-13 15:39:02 -0400 (Mon, 13 Oct 2025) EndedAt: 2025-10-13 15:40:40 -0400 (Mon, 13 Oct 2025) EllapsedTime: 98.5 seconds RetCode: 0 Status: OK