Package: DESpace Version: 2.0.0 Command: /Library/Frameworks/R.framework/Resources/bin/R CMD build --keep-empty-dirs --no-resave-data DESpace StartedAt: 2025-10-13 18:35:15 -0400 (Mon, 13 Oct 2025) EndedAt: 2025-10-13 18:57:39 -0400 (Mon, 13 Oct 2025) EllapsedTime: 1344.1 seconds RetCode: 0 Status: OK PackageFile: DESpace_2.0.0.tar.gz PackageFileSize: 9.589 MiB