Package: DESpace Version: 2.0.0 Command: rm -rf DESpace.buildbin-libdir && mkdir DESpace.buildbin-libdir && /Users/biocbuild/BBS/utils/build-universal.sh DESpace_2.0.0.tar.gz /Library/Frameworks/R.framework/Resources/bin/R DESpace.buildbin-libdir StartedAt: 2025-10-14 13:15:32 -0400 (Tue, 14 Oct 2025) EndedAt: 2025-10-14 13:18:27 -0400 (Tue, 14 Oct 2025) EllapsedTime: 174.3 seconds RetCode: 0 Status: OK PackageFile: DESpace_2.0.0.tgz PackageFileSize: 9.662 MiB