Package: DESeq2 Version: 1.48.2 Command: /home/biocbuild/bbs-3.21-bioc/R/bin/R CMD build --keep-empty-dirs --no-resave-data DESeq2 StartedAt: 2025-10-15 17:11:38 -0400 (Wed, 15 Oct 2025) EndedAt: 2025-10-15 17:13:33 -0400 (Wed, 15 Oct 2025) EllapsedTime: 115.1 seconds RetCode: 0 Status: OK PackageFile: DESeq2_1.48.2.tar.gz PackageFileSize: 2.561 MiB