Package: DESeq2 Version: 1.48.2 Command: /Library/Frameworks/R.framework/Resources/bin/R CMD check --install=check:DESeq2.install-out.txt --library=/Library/Frameworks/R.framework/Resources/library --no-vignettes --timings DESeq2_1.48.2.tar.gz StartedAt: 2025-10-10 20:16:14 -0400 (Fri, 10 Oct 2025) EndedAt: 2025-10-10 20:24:23 -0400 (Fri, 10 Oct 2025) EllapsedTime: 488.7 seconds RetCode: 0 Status: WARNINGS CheckDir: DESeq2.Rcheck Warnings: 1