Package: DESeq2 Version: 1.48.2 Command: rm -rf DESeq2.buildbin-libdir && mkdir DESeq2.buildbin-libdir && /Users/biocbuild/BBS/utils/build-universal.sh DESeq2_1.48.2.tar.gz /Library/Frameworks/R.framework/Resources/bin/R DESeq2.buildbin-libdir StartedAt: 2025-10-11 19:52:15 -0400 (Sat, 11 Oct 2025) EndedAt: 2025-10-11 19:53:15 -0400 (Sat, 11 Oct 2025) EllapsedTime: 59.9 seconds RetCode: 0 Status: OK PackageFile: DESeq2_1.48.2.tgz PackageFileSize: 4.074 MiB