Package: DESeq2 Version: 1.48.2 Maintainer: Michael Love MaintainerEmail: michaelisaiahlove at gmail.com git_url: https://git.bioconductor.org/packages/DESeq2 git_branch: RELEASE_3_21 git_last_commit: eb2ea04 git_last_commit_date: 2025-08-18 14:53:20 -0400 (Mon, 18 Aug 2025)