Package: DEScan2 Version: 1.28.0 Command: rm -rf DEScan2.buildbin-libdir && mkdir DEScan2.buildbin-libdir && E:\biocbuild\bbs-3.21-bioc\R\bin\R.exe CMD INSTALL --build --library=DEScan2.buildbin-libdir DEScan2_1.28.0.tar.gz StartedAt: 2025-08-15 09:09:56 -0400 (Fri, 15 Aug 2025) EndedAt: 2025-08-15 09:11:21 -0400 (Fri, 15 Aug 2025) EllapsedTime: 84.6 seconds RetCode: 0 Status: OK PackageFile: DEScan2_1.28.0.zip PackageFileSize: 2.843 MiB