Package: DEScan2 Version: 1.28.0 Command: /home/biocbuild/bbs-3.21-bioc/R/bin/R CMD INSTALL DEScan2 StartedAt: 2025-10-01 15:54:52 -0400 (Wed, 01 Oct 2025) EndedAt: 2025-10-01 15:55:50 -0400 (Wed, 01 Oct 2025) EllapsedTime: 58.2 seconds RetCode: 0 Status: OK