Package: DEScan2 Version: 1.28.0 Command: /home/biocbuild/bbs-3.21-bioc/R/bin/R CMD build --keep-empty-dirs --no-resave-data DEScan2 StartedAt: 2025-10-01 17:14:08 -0400 (Wed, 01 Oct 2025) EndedAt: 2025-10-01 17:15:40 -0400 (Wed, 01 Oct 2025) EllapsedTime: 92.1 seconds RetCode: 0 Status: OK PackageFile: DEScan2_1.28.0.tar.gz PackageFileSize: 2.482 MiB