Package: DEScan2 Version: 1.28.0 Command: /Library/Frameworks/R.framework/Resources/bin/R CMD check --install=check:DEScan2.install-out.txt --library=/Library/Frameworks/R.framework/Resources/library --no-vignettes --timings DEScan2_1.28.0.tar.gz StartedAt: 2025-10-14 02:46:26 -0400 (Tue, 14 Oct 2025) EndedAt: 2025-10-14 03:01:47 -0400 (Tue, 14 Oct 2025) EllapsedTime: 920.9 seconds RetCode: 0 Status: WARNINGS CheckDir: DEScan2.Rcheck Warnings: 2