Package: DELocal Version: 1.8.0 Command: /home/biocbuild/R/R/bin/R CMD INSTALL DELocal StartedAt: 2025-10-13 20:35:10 -0000 (Mon, 13 Oct 2025) EndedAt: 2025-10-13 20:35:47 -0000 (Mon, 13 Oct 2025) EllapsedTime: 37.5 seconds RetCode: 0 Status: OK