Package: DELocal Version: 1.8.0 Command: /home/biocbuild/R/R/bin/R CMD check --install=check:DELocal.install-out.txt --library=/home/biocbuild/R/R/site-library --no-vignettes --timings DELocal_1.8.0.tar.gz StartedAt: 2025-10-07 08:35:30 -0000 (Tue, 07 Oct 2025) EndedAt: 2025-10-07 08:39:34 -0000 (Tue, 07 Oct 2025) EllapsedTime: 244.2 seconds RetCode: 0 Status: OK CheckDir: DELocal.Rcheck Warnings: 0