Package: DELocal Version: 1.8.0 Command: /home/biocbuild/R/R/bin/R CMD build --keep-empty-dirs --no-resave-data DELocal StartedAt: 2025-10-14 00:15:15 -0000 (Tue, 14 Oct 2025) EndedAt: 2025-10-14 00:16:32 -0000 (Tue, 14 Oct 2025) EllapsedTime: 77.0 seconds RetCode: 1 Status: ERROR PackageFile: None PackageFileSize: NA