Package: DEGreport Version: 1.44.0 Command: /home/biocbuild/R/R/bin/R CMD INSTALL DEGreport StartedAt: 2025-10-13 20:48:26 -0000 (Mon, 13 Oct 2025) EndedAt: 2025-10-13 20:49:13 -0000 (Mon, 13 Oct 2025) EllapsedTime: 47.2 seconds RetCode: 0 Status: OK