Package: DEGreport Version: 1.44.0 Command: /home/biocbuild/R/R/bin/R CMD check --install=check:DEGreport.install-out.txt --library=/home/biocbuild/R/R/site-library --no-vignettes --timings DEGreport_1.44.0.tar.gz StartedAt: 2025-10-07 08:31:49 -0000 (Tue, 07 Oct 2025) EndedAt: 2025-10-07 08:38:28 -0000 (Tue, 07 Oct 2025) EllapsedTime: 399.2 seconds RetCode: 0 Status: OK CheckDir: DEGreport.Rcheck Warnings: 0