Package: DART Version: 1.56.0 Command: /Library/Frameworks/R.framework/Resources/bin/R CMD build --keep-empty-dirs --no-resave-data DART StartedAt: 2025-10-13 22:34:52 -0400 (Mon, 13 Oct 2025) EndedAt: 2025-10-13 22:35:22 -0400 (Mon, 13 Oct 2025) EllapsedTime: 30.1 seconds RetCode: 0 Status: OK PackageFile: DART_1.56.0.tar.gz PackageFileSize: 1.987 MiB