Package: CytoML Version: 2.20.0 Command: rm -rf CytoML.buildbin-libdir && mkdir CytoML.buildbin-libdir && E:\biocbuild\bbs-3.21-bioc\R\bin\R.exe CMD INSTALL --build --library=CytoML.buildbin-libdir CytoML_2.20.0.tar.gz StartedAt: 2025-08-15 09:06:16 -0400 (Fri, 15 Aug 2025) EndedAt: 2025-08-15 09:09:25 -0400 (Fri, 15 Aug 2025) EllapsedTime: 189.2 seconds RetCode: 0 Status: OK PackageFile: CytoML_2.20.0.zip PackageFileSize: 10.33 MiB