Package: CytoGLMM Version: 1.16.1 Command: /home/biocbuild/bbs-3.21-bioc/R/bin/R CMD build --keep-empty-dirs --no-resave-data CytoGLMM StartedAt: 2025-09-28 17:16:17 -0400 (Sun, 28 Sep 2025) EndedAt: 2025-09-28 17:17:50 -0400 (Sun, 28 Sep 2025) EllapsedTime: 93.1 seconds RetCode: 0 Status: OK PackageFile: CytoGLMM_1.16.1.tar.gz PackageFileSize: 346.1 KiB