Package: CrispRVariants Version: 1.36.0 Command: /Library/Frameworks/R.framework/Resources/bin/R CMD check --install=check:CrispRVariants.install-out.txt --library=/Library/Frameworks/R.framework/Resources/library --no-vignettes --timings CrispRVariants_1.36.0.tar.gz StartedAt: 2025-10-14 02:07:01 -0400 (Tue, 14 Oct 2025) EndedAt: 2025-10-14 02:17:41 -0400 (Tue, 14 Oct 2025) EllapsedTime: 639.8 seconds RetCode: 0 Status: WARNINGS CheckDir: CrispRVariants.Rcheck Warnings: 2