Package: CrispRVariants Version: 1.36.0 Command: /Library/Frameworks/R.framework/Resources/bin/R CMD INSTALL CrispRVariants StartedAt: 2025-10-02 16:38:58 -0400 (Thu, 02 Oct 2025) EndedAt: 2025-10-02 16:39:49 -0400 (Thu, 02 Oct 2025) EllapsedTime: 51.2 seconds RetCode: 0 Status: OK