Package: Cormotif Version: 1.54.0 Command: chmod a+r Cormotif -R && E:\biocbuild\bbs-3.21-bioc\R\bin\R.exe CMD build --keep-empty-dirs --no-resave-data Cormotif StartedAt: 2025-08-14 18:15:18 -0400 (Thu, 14 Aug 2025) EndedAt: 2025-08-14 18:16:13 -0400 (Thu, 14 Aug 2025) EllapsedTime: 55.5 seconds RetCode: 0 Status: OK PackageFile: Cormotif_1.54.0.tar.gz PackageFileSize: 273.1 KiB