Package: Cormotif Version: 1.54.0 Command: /home/biocbuild/bbs-3.21-bioc/R/bin/R CMD check --install=check:Cormotif.install-out.txt --library=/home/biocbuild/bbs-3.21-bioc/R/site-library --timings Cormotif_1.54.0.tar.gz StartedAt: 2025-10-15 22:02:34 -0400 (Wed, 15 Oct 2025) EndedAt: 2025-10-15 22:03:35 -0400 (Wed, 15 Oct 2025) EllapsedTime: 61.1 seconds RetCode: 0 Status: OK CheckDir: Cormotif.Rcheck Warnings: 0