Package: Cormotif Version: 1.54.0 Command: /Library/Frameworks/R.framework/Resources/bin/R CMD INSTALL Cormotif StartedAt: 2025-10-13 15:35:08 -0400 (Mon, 13 Oct 2025) EndedAt: 2025-10-13 15:35:14 -0400 (Mon, 13 Oct 2025) EllapsedTime: 5.9 seconds RetCode: 0 Status: OK