Package: Cormotif Version: 1.54.0 Command: /Library/Frameworks/R.framework/Resources/bin/R CMD build --keep-empty-dirs --no-resave-data Cormotif StartedAt: 2025-10-13 21:54:48 -0400 (Mon, 13 Oct 2025) EndedAt: 2025-10-13 21:55:33 -0400 (Mon, 13 Oct 2025) EllapsedTime: 44.6 seconds RetCode: 0 Status: OK PackageFile: Cormotif_1.54.0.tar.gz PackageFileSize: 376 KiB