Package: Cormotif Version: 1.54.0 Command: rm -rf Cormotif.buildbin-libdir && mkdir Cormotif.buildbin-libdir && /Users/biocbuild/BBS/utils/build-universal.sh Cormotif_1.54.0.tar.gz /Library/Frameworks/R.framework/Resources/bin/R Cormotif.buildbin-libdir StartedAt: 2025-10-15 18:00:12 -0400 (Wed, 15 Oct 2025) EndedAt: 2025-10-15 18:00:19 -0400 (Wed, 15 Oct 2025) EllapsedTime: 6.8 seconds RetCode: 0 Status: OK PackageFile: Cormotif_1.54.0.tgz PackageFileSize: 430.5 KiB