Package: CoreGx Version: 2.12.0 Command: /Library/Frameworks/R.framework/Resources/bin/R CMD check --install=check:CoreGx.install-out.txt --library=/Library/Frameworks/R.framework/Resources/library --no-vignettes --timings CoreGx_2.12.0.tar.gz StartedAt: 2025-10-14 01:57:57 -0400 (Tue, 14 Oct 2025) EndedAt: 2025-10-14 02:08:37 -0400 (Tue, 14 Oct 2025) EllapsedTime: 640.4 seconds RetCode: 0 Status: OK CheckDir: CoreGx.Rcheck Warnings: 0