Package: CopyNumberPlots Version: 1.24.0 Command: /home/biocbuild/bbs-3.21-bioc/R/bin/R CMD build --keep-empty-dirs --no-resave-data CopyNumberPlots StartedAt: 2025-10-15 16:54:25 -0400 (Wed, 15 Oct 2025) EndedAt: 2025-10-15 16:55:56 -0400 (Wed, 15 Oct 2025) EllapsedTime: 91.1 seconds RetCode: 0 Status: OK PackageFile: CopyNumberPlots_1.24.0.tar.gz PackageFileSize: 1.769 MiB