Package: CopyNumberPlots Version: 1.24.0 Command: /Library/Frameworks/R.framework/Resources/bin/R CMD INSTALL CopyNumberPlots StartedAt: 2025-10-13 17:32:39 -0400 (Mon, 13 Oct 2025) EndedAt: 2025-10-13 17:33:34 -0400 (Mon, 13 Oct 2025) EllapsedTime: 55.1 seconds RetCode: 0 Status: OK