Package: CopyNumberPlots Version: 1.24.0 Command: /Library/Frameworks/R.framework/Resources/bin/R CMD check --install=check:CopyNumberPlots.install-out.txt --library=/Library/Frameworks/R.framework/Resources/library --no-vignettes --timings CopyNumberPlots_1.24.0.tar.gz StartedAt: 2025-10-14 17:14:21 -0400 (Tue, 14 Oct 2025) EndedAt: 2025-10-14 17:20:57 -0400 (Tue, 14 Oct 2025) EllapsedTime: 396.4 seconds RetCode: 0 Status: OK CheckDir: CopyNumberPlots.Rcheck Warnings: 0