Package: CompoundDb Version: 1.12.1 Command: /home/biocbuild/bbs-3.21-bioc/R/bin/R CMD check --install=check:CompoundDb.install-out.txt --library=/home/biocbuild/bbs-3.21-bioc/R/site-library --timings CompoundDb_1.12.1.tar.gz StartedAt: 2025-10-15 21:58:55 -0400 (Wed, 15 Oct 2025) EndedAt: 2025-10-15 22:01:48 -0400 (Wed, 15 Oct 2025) EllapsedTime: 172.2 seconds RetCode: 0 Status: OK CheckDir: CompoundDb.Rcheck Warnings: 0