Package: CompoundDb Version: 1.12.1 Command: /Library/Frameworks/R.framework/Resources/bin/R CMD INSTALL CompoundDb StartedAt: 2025-10-13 16:03:00 -0400 (Mon, 13 Oct 2025) EndedAt: 2025-10-13 16:03:49 -0400 (Mon, 13 Oct 2025) EllapsedTime: 49.8 seconds RetCode: 0 Status: OK