Package: CompoundDb Version: 1.12.1 Command: /Library/Frameworks/R.framework/Resources/bin/R CMD check --install=check:CompoundDb.install-out.txt --library=/Library/Frameworks/R.framework/Resources/library --no-vignettes --timings CompoundDb_1.12.1.tar.gz StartedAt: 2025-10-14 01:52:12 -0400 (Tue, 14 Oct 2025) EndedAt: 2025-10-14 01:57:55 -0400 (Tue, 14 Oct 2025) EllapsedTime: 342.7 seconds RetCode: 0 Status: OK CheckDir: CompoundDb.Rcheck Warnings: 0