Package: CompoundDb Version: 1.12.1 Command: rm -rf CompoundDb.buildbin-libdir && mkdir CompoundDb.buildbin-libdir && /Users/biocbuild/BBS/utils/build-universal.sh CompoundDb_1.12.1.tar.gz /Library/Frameworks/R.framework/Resources/bin/R CompoundDb.buildbin-libdir StartedAt: 2025-10-14 13:06:58 -0400 (Tue, 14 Oct 2025) EndedAt: 2025-10-14 13:07:57 -0400 (Tue, 14 Oct 2025) EllapsedTime: 58.6 seconds RetCode: 0 Status: OK PackageFile: CompoundDb_1.12.1.tgz PackageFileSize: 1.446 MiB