Package: CompoundDb Version: 1.12.1 Command: /Library/Frameworks/R.framework/Resources/bin/R CMD build --keep-empty-dirs --no-resave-data CompoundDb StartedAt: 2025-10-13 21:49:17 -0400 (Mon, 13 Oct 2025) EndedAt: 2025-10-13 21:50:06 -0400 (Mon, 13 Oct 2025) EllapsedTime: 48.5 seconds RetCode: 0 Status: OK PackageFile: CompoundDb_1.12.1.tar.gz PackageFileSize: 1.303 MiB